BEGIN:VCALENDAR
VERSION:2.0
PRODID:-//Sch&uuml;tzenverein Ohrwege e.V. - ECPv6.15.20//NONSGML v1.0//EN
CALSCALE:GREGORIAN
METHOD:PUBLISH
X-ORIGINAL-URL:https://www.sv-ohrwege.de
X-WR-CALDESC:Veranstaltungen für Sch&uuml;tzenverein Ohrwege e.V.
REFRESH-INTERVAL;VALUE=DURATION:PT1H
X-Robots-Tag:noindex
X-PUBLISHED-TTL:PT1H
BEGIN:VTIMEZONE
TZID:Europe/Berlin
BEGIN:DAYLIGHT
TZOFFSETFROM:+0100
TZOFFSETTO:+0200
TZNAME:CEST
DTSTART:20250330T010000
END:DAYLIGHT
BEGIN:STANDARD
TZOFFSETFROM:+0200
TZOFFSETTO:+0100
TZNAME:CET
DTSTART:20251026T010000
END:STANDARD
BEGIN:DAYLIGHT
TZOFFSETFROM:+0100
TZOFFSETTO:+0200
TZNAME:CEST
DTSTART:20260329T010000
END:DAYLIGHT
BEGIN:STANDARD
TZOFFSETFROM:+0200
TZOFFSETTO:+0100
TZNAME:CET
DTSTART:20261025T010000
END:STANDARD
BEGIN:DAYLIGHT
TZOFFSETFROM:+0100
TZOFFSETTO:+0200
TZNAME:CEST
DTSTART:20270328T010000
END:DAYLIGHT
BEGIN:STANDARD
TZOFFSETFROM:+0200
TZOFFSETTO:+0100
TZNAME:CET
DTSTART:20271031T010000
END:STANDARD
END:VTIMEZONE
BEGIN:VEVENT
DTSTART;TZID=Europe/Berlin:20260704T200000
DTEND;TZID=Europe/Berlin:20260704T233000
DTSTAMP:20260424T174945
CREATED:20240628T200844Z
LAST-MODIFIED:20260114T122825Z
UID:151-1783195200-1783207800@www.sv-ohrwege.de
SUMMARY:Öffentlicher Königsball
DESCRIPTION:Am Samstag startet um 20 Uhr der öffentliche Königsball in der Querensteder Mühle. Der Eintritt kostet 8\,- Euro an der Abendkasse.\nFür die musikalische Unterhaltung haben wir diesmal wieder DJ Timo Tapken für uns gewinnen können.\nGegen 21 Uhr findet unsere große Tombola statt. Dieses Jahr werden wir wieder tatkräftig von ortsansässigen Firmen unterstützt.
URL:https://www.sv-ohrwege.de/event/oeffentlicher-koenigsball/
LOCATION:Querensteder Mühle\, Querensteder Str. 13\, Bad Zwischenahn\, Niedersachsen\, 26160\, Deutschland
END:VEVENT
END:VCALENDAR