BEGIN:VCALENDAR
VERSION:2.0
PRODID:-//Sch&uuml;tzenverein Ohrwege e.V. - ECPv6.15.20//NONSGML v1.0//EN
CALSCALE:GREGORIAN
METHOD:PUBLISH
X-ORIGINAL-URL:https://www.sv-ohrwege.de
X-WR-CALDESC:Veranstaltungen für Sch&uuml;tzenverein Ohrwege e.V.
REFRESH-INTERVAL;VALUE=DURATION:PT1H
X-Robots-Tag:noindex
X-PUBLISHED-TTL:PT1H
BEGIN:VTIMEZONE
TZID:Europe/Berlin
BEGIN:DAYLIGHT
TZOFFSETFROM:+0100
TZOFFSETTO:+0200
TZNAME:CEST
DTSTART:20250330T010000
END:DAYLIGHT
BEGIN:STANDARD
TZOFFSETFROM:+0200
TZOFFSETTO:+0100
TZNAME:CET
DTSTART:20251026T010000
END:STANDARD
BEGIN:DAYLIGHT
TZOFFSETFROM:+0100
TZOFFSETTO:+0200
TZNAME:CEST
DTSTART:20260329T010000
END:DAYLIGHT
BEGIN:STANDARD
TZOFFSETFROM:+0200
TZOFFSETTO:+0100
TZNAME:CET
DTSTART:20261025T010000
END:STANDARD
BEGIN:DAYLIGHT
TZOFFSETFROM:+0100
TZOFFSETTO:+0200
TZNAME:CEST
DTSTART:20270328T010000
END:DAYLIGHT
BEGIN:STANDARD
TZOFFSETFROM:+0200
TZOFFSETTO:+0100
TZNAME:CET
DTSTART:20271031T010000
END:STANDARD
END:VTIMEZONE
BEGIN:VEVENT
DTSTART;TZID=Europe/Berlin:20260701T150000
DTEND;TZID=Europe/Berlin:20260701T170000
DTSTAMP:20260424T163519
CREATED:20240628T174154Z
LAST-MODIFIED:20260114T122849Z
UID:141-1782918000-1782925200@www.sv-ohrwege.de
SUMMARY:Kaffeeklatsch für Jung und Alt
DESCRIPTION:Der Schützenverein Ohrwege veranstaltet zum Start in die Schützenfestwoche ein Kaffe-/Kuchennachmittag für alle Generationen im Dorfgemeinschaftshaus Ohrwege.\nEingeladen sind nicht nur Vereinsmitglieder\, sondern alle interessierten Personen in und um Bad Zwischenahn\,\nFür einen Obolus von 5\,- Euro gibt es Kaffee\, Tee\, Tort und Kuchen bis zum satt werden.
URL:https://www.sv-ohrwege.de/event/kaffeeklatsch-fuer-jung-und-alt/
LOCATION:Dorfgemeinschaftshaus Ohrwege\, Am Timp 2\, Bad Zwischenahn\, Niedersachsen\, 26160\, Deutschland
END:VEVENT
BEGIN:VEVENT
DTSTART;TZID=Europe/Berlin:20260703T190000
DTEND;TZID=Europe/Berlin:20260703T233000
DTSTAMP:20260424T163519
CREATED:20240628T175257Z
LAST-MODIFIED:20260114T122800Z
UID:149-1783105200-1783121400@www.sv-ohrwege.de
SUMMARY:Cocktailabend
DESCRIPTION:Wie jedes Jahr starten wir ins Schützenfestwochenende mit unseren Cocktailabend. Wer pünktlich ist kann bei der Happy Hour von 19-20 Uhr sparen.\nIn und um das Zelt wird wieder kräftig bei selbstgemixten Cocktails gefeiert.\nNeben alkoholischen und Nichtalkoholische Cocktails werden auch normale Softdrinks ausgeschenkt. Für das leibliche Wohl steht das Team von der Pfiffikus Würstchenbude bereit.
URL:https://www.sv-ohrwege.de/event/cocktailabend/
LOCATION:Dorfgemeinschaftshaus Ohrwege\, Am Timp 2\, Bad Zwischenahn\, Niedersachsen\, 26160\, Deutschland
END:VEVENT
BEGIN:VEVENT
DTSTART;TZID=Europe/Berlin:20260704T200000
DTEND;TZID=Europe/Berlin:20260704T233000
DTSTAMP:20260424T163519
CREATED:20240628T200844Z
LAST-MODIFIED:20260114T122825Z
UID:151-1783195200-1783207800@www.sv-ohrwege.de
SUMMARY:Öffentlicher Königsball
DESCRIPTION:Am Samstag startet um 20 Uhr der öffentliche Königsball in der Querensteder Mühle. Der Eintritt kostet 8\,- Euro an der Abendkasse.\nFür die musikalische Unterhaltung haben wir diesmal wieder DJ Timo Tapken für uns gewinnen können.\nGegen 21 Uhr findet unsere große Tombola statt. Dieses Jahr werden wir wieder tatkräftig von ortsansässigen Firmen unterstützt.
URL:https://www.sv-ohrwege.de/event/oeffentlicher-koenigsball/
LOCATION:Querensteder Mühle\, Querensteder Str. 13\, Bad Zwischenahn\, Niedersachsen\, 26160\, Deutschland
END:VEVENT
BEGIN:VEVENT
DTSTART;TZID=Europe/Berlin:20260705T130000
DTEND;TZID=Europe/Berlin:20260705T180000
DTSTAMP:20260424T163519
CREATED:20240628T201802Z
LAST-MODIFIED:20260114T122700Z
UID:154-1783256400-1783274400@www.sv-ohrwege.de
SUMMARY:Festumzug\, Kinder- & Familiennachmittag
DESCRIPTION:Nach dem traditionellen Festumzug durch Ohrwege (Abmarsch 13.15 Uhr) startet unser Kinder- und Familiennachmittag um 13 Uhr.\nEs steht eine große Feuerwehr Hüpfburg bereit\, die von der Kinderfeuerwehr Ohrwege beaufsichtigt wird und zudem noch weitere Highlights rund um das Thema Feuerwehr anbietet. Des weiteren kommt das DRK zu uns und informiert über ihre umfangreiche Arbeit.\nAlle Kinder können sich wieder beim Kinderschminken mit 8 neuen Motiven schminken lassen. Dieses Jahr ist auch wieder Joshi dabei und macht für die Kinder super coole Luftballonfiguren.\nZudem werden Spiele aufgebaut\, die man alleine oder als Team bestreiten kann.\nFür Verpflegung steht am Sonntag die Pfiffikus Würstchenbude\, die Fischkiste und das Team von Backwaren Willms mit frischen Berliner bereit\, die direkt im Festzelt mit frisch gebrühten Kaffee verzehrt werden können.
URL:https://www.sv-ohrwege.de/event/festumzug-kinder-familiennachmittag/
LOCATION:Dorfgemeinschaftshaus Ohrwege\, Am Timp 2\, Bad Zwischenahn\, Niedersachsen\, 26160\, Deutschland
END:VEVENT
END:VCALENDAR